BEGIN:VCALENDAR
VERSION:2.0
PRODID:icalendar-ruby
CALSCALE:GREGORIAN
METHOD:PUBLISH
BEGIN:VEVENT
DTSTAMP:20260423T214129Z
UID:5-249044@nbmvcc.org
DTSTART:20261011T153000Z
DTEND:20261011T170000Z
CLASS:PUBLIC
CREATED:20260423T154514
DESCRIPTION:Sunday Worship
LAST-MODIFIED:20260423T154514
LOCATION:
SUMMARY:Sunday Worship
URL;VALUE=URI:https://www.nbmvcc.org/events/sunday-worship/2026-10-11
END:VEVENT
END:VCALENDAR
