BEGIN:VCALENDAR
VERSION:2.0
PRODID:icalendar-ruby
CALSCALE:GREGORIAN
METHOD:PUBLISH
BEGIN:VEVENT
DTSTAMP:20260424T013027Z
UID:5-249090@nbmvcc.org
DTSTART:20261025T153000Z
DTEND:20261025T170000Z
CLASS:PUBLIC
CREATED:20260423T183858
DESCRIPTION:Sunday Worship
LAST-MODIFIED:20260423T183858
LOCATION:
SUMMARY:Sunday Worship
URL;VALUE=URI:https://www.nbmvcc.org/events/sunday-worship/2026-10-25
END:VEVENT
END:VCALENDAR
